BEGIN:VCALENDAR
VERSION:2.0
PRODID:-//Western Springs College - ECPv6.14.0//NONSGML v1.0//EN
CALSCALE:GREGORIAN
METHOD:PUBLISH
X-ORIGINAL-URL:https://westernsprings.school.nz
X-WR-CALDESC:Events for Western Springs College
REFRESH-INTERVAL;VALUE=DURATION:PT1H
X-Robots-Tag:noindex
X-PUBLISHED-TTL:PT1H
BEGIN:VTIMEZONE
TZID:Pacific/Auckland
BEGIN:STANDARD
TZOFFSETFROM:+1300
TZOFFSETTO:+1200
TZNAME:NZST
DTSTART:20180331T140000
END:STANDARD
BEGIN:DAYLIGHT
TZOFFSETFROM:+1200
TZOFFSETTO:+1300
TZNAME:NZDT
DTSTART:20180929T140000
END:DAYLIGHT
END:VTIMEZONE
BEGIN:VEVENT
DTSTART;VALUE=DATE:20180228
DTEND;VALUE=DATE:20180301
DTSTAMP:20260425T045948
CREATED:20180207T074850Z
LAST-MODIFIED:20180227T080512Z
UID:1599-1519776000-1519862399@westernsprings.school.nz
SUMMARY:Pasifika BBQ 6pm
DESCRIPTION:This event has a Google Hangouts video call.\nJoin: https://plus.google.com/hangouts/_/wsc.school.nz/stimsonk?hceid=d3NjLnNjaG9vbC5uel9ncm1xZWxsNm1yZXUxaDY2Y2J1Z2Y3ajBqNEBncm91cC5jYWxlbmRhci5nb29nbGUuY29t.5f42s075gbeml3ce81lpc3cg83&hs=121
URL:https://westernsprings.school.nz/event/pasifika-bbq-6pm/
END:VEVENT
BEGIN:VEVENT
DTSTART;TZID=Pacific/Auckland:20180228T153000
DTEND;TZID=Pacific/Auckland:20180228T170000
DTSTAMP:20260425T045948
CREATED:20180226T080600Z
LAST-MODIFIED:20180227T080512Z
UID:2016-1519831800-1519837200@westernsprings.school.nz
SUMMARY:Sustainability Panel Meeting S2
DESCRIPTION:This event has a Google Hangouts video call.\nJoin: https://plus.google.com/hangouts/_/wsc.school.nz/sustainability?hceid=d3NjLnNjaG9vbC5uel91N3Z1bm5kaTY5cjhlNnBycmNvaGxxOGJiY0Bncm91cC5jYWxlbmRhci5nb29nbGUuY29t.424qcroc7o62kocv5gfusel0g9&hs=121
URL:https://westernsprings.school.nz/event/sustainability-panel-meeting-s2/
END:VEVENT
END:VCALENDAR