BEGIN:VCALENDAR
VERSION:2.0
PRODID:-//Western Springs College - ECPv6.14.0//NONSGML v1.0//EN
CALSCALE:GREGORIAN
METHOD:PUBLISH
X-WR-CALNAME:Western Springs College
X-ORIGINAL-URL:https://westernsprings.school.nz
X-WR-CALDESC:Events for Western Springs College
REFRESH-INTERVAL;VALUE=DURATION:PT1H
X-Robots-Tag:noindex
X-PUBLISHED-TTL:PT1H
BEGIN:VTIMEZONE
TZID:Pacific/Auckland
BEGIN:STANDARD
TZOFFSETFROM:+1300
TZOFFSETTO:+1200
TZNAME:NZST
DTSTART:20180331T140000
END:STANDARD
BEGIN:DAYLIGHT
TZOFFSETFROM:+1200
TZOFFSETTO:+1300
TZNAME:NZDT
DTSTART:20180929T140000
END:DAYLIGHT
END:VTIMEZONE
BEGIN:VEVENT
DTSTART;VALUE=DATE:20180612
DTEND;VALUE=DATE:20180613
DTSTAMP:20260424T142132
CREATED:20180207T075224Z
LAST-MODIFIED:20180612T012024Z
UID:1601-1528761600-1528847999@westernsprings.school.nz
SUMMARY:WSC Half Day (PD). Early finish
DESCRIPTION:This event has a Google Hangouts video call.\nJoin: https://plus.google.com/hangouts/_/wsc.school.nz/stimsonk?hceid=d3NjLnNjaG9vbC5uel9ncm1xZWxsNm1yZXUxaDY2Y2J1Z2Y3ajBqNEBncm91cC5jYWxlbmRhci5nb29nbGUuY29t.7ilr29rf0qrk22295rmn1vs0um&hs=121
URL:https://westernsprings.school.nz/event/wsc-half-day-pd-early-finish-10/
END:VEVENT
END:VCALENDAR