BEGIN:VCALENDAR
VERSION:2.0
PRODID:-//Western Springs College - ECPv6.14.0//NONSGML v1.0//EN
CALSCALE:GREGORIAN
METHOD:PUBLISH
X-WR-CALNAME:Western Springs College
X-ORIGINAL-URL:https://westernsprings.school.nz
X-WR-CALDESC:Events for Western Springs College
REFRESH-INTERVAL;VALUE=DURATION:PT1H
X-Robots-Tag:noindex
X-PUBLISHED-TTL:PT1H
BEGIN:VTIMEZONE
TZID:Pacific/Auckland
BEGIN:STANDARD
TZOFFSETFROM:+1300
TZOFFSETTO:+1200
TZNAME:NZST
DTSTART:20200404T140000
END:STANDARD
BEGIN:DAYLIGHT
TZOFFSETFROM:+1200
TZOFFSETTO:+1300
TZNAME:NZDT
DTSTART:20200926T140000
END:DAYLIGHT
END:VTIMEZONE
BEGIN:VEVENT
DTSTART;VALUE=DATE:20200824
DTEND;VALUE=DATE:20200829
DTSTAMP:20260420T085005
CREATED:20200815T135438Z
LAST-MODIFIED:20200828T142522Z
UID:14820-1598227200-1598659199@westernsprings.school.nz
SUMMARY:L3 lockdown - school closed
DESCRIPTION:Normal school timetable followed.\n8.50am to 3.10pm for Waiōrea ākonga\nand\n9.00am to 3.10pm for Springs students.
URL:https://westernsprings.school.nz/event/l3-lockdown-school-closed-3/
END:VEVENT
END:VCALENDAR