BEGIN:VCALENDAR
VERSION:2.0
PRODID:-//Western Springs College - ECPv6.14.0//NONSGML v1.0//EN
CALSCALE:GREGORIAN
METHOD:PUBLISH
X-ORIGINAL-URL:https://westernsprings.school.nz
X-WR-CALDESC:Events for Western Springs College
REFRESH-INTERVAL;VALUE=DURATION:PT1H
X-Robots-Tag:noindex
X-PUBLISHED-TTL:PT1H
BEGIN:VTIMEZONE
TZID:Pacific/Auckland
BEGIN:STANDARD
TZOFFSETFROM:+1300
TZOFFSETTO:+1200
TZNAME:NZST
DTSTART:20200404T140000
END:STANDARD
BEGIN:DAYLIGHT
TZOFFSETFROM:+1200
TZOFFSETTO:+1300
TZNAME:NZDT
DTSTART:20200926T140000
END:DAYLIGHT
END:VTIMEZONE
BEGIN:VEVENT
DTSTART;VALUE=DATE:20201109
DTEND;VALUE=DATE:20201110
DTSTAMP:20260424T174116
CREATED:20201013T054347Z
LAST-MODIFIED:20201109T101329Z
UID:15217-1604880000-1604966399@westernsprings.school.nz
SUMMARY:Meet BoT candidates 7.30pm in the staffroom
DESCRIPTION:
URL:https://westernsprings.school.nz/event/meet-bot-candidates-7-30pm-in-the-staffroom/
END:VEVENT
BEGIN:VEVENT
DTSTART;VALUE=DATE:20201109
DTEND;VALUE=DATE:20201110
DTSTAMP:20260424T174116
CREATED:20201015T055836Z
LAST-MODIFIED:20201109T101329Z
UID:15221-1604880000-1604966399@westernsprings.school.nz
SUMMARY:Sports assembly in the Gym 1 to 3pm
DESCRIPTION:
URL:https://westernsprings.school.nz/event/sports-assembly-in-the-gym-1-to-3pm/
END:VEVENT
END:VCALENDAR