BEGIN:VCALENDAR
VERSION:2.0
PRODID:-//Western Springs College - ECPv6.14.0//NONSGML v1.0//EN
CALSCALE:GREGORIAN
METHOD:PUBLISH
X-WR-CALNAME:Western Springs College
X-ORIGINAL-URL:https://westernsprings.school.nz
X-WR-CALDESC:Events for Western Springs College
REFRESH-INTERVAL;VALUE=DURATION:PT1H
X-Robots-Tag:noindex
X-PUBLISHED-TTL:PT1H
BEGIN:VTIMEZONE
TZID:Pacific/Auckland
BEGIN:STANDARD
TZOFFSETFROM:+1300
TZOFFSETTO:+1200
TZNAME:NZST
DTSTART:20230401T140000
END:STANDARD
BEGIN:DAYLIGHT
TZOFFSETFROM:+1200
TZOFFSETTO:+1300
TZNAME:NZDT
DTSTART:20230923T140000
END:DAYLIGHT
END:VTIMEZONE
BEGIN:VEVENT
DTSTART;VALUE=DATE:20231024
DTEND;VALUE=DATE:20231025
DTSTAMP:20260425T130251
CREATED:20231017T014839Z
LAST-MODIFIED:20231024T041813Z
UID:22092-1698105600-1698191999@westernsprings.school.nz
SUMMARY:Meet The Candidates evening (WSC parent nominees) - 7 to 8pm in KHCL Level 1
DESCRIPTION:
URL:https://westernsprings.school.nz/event/meet-the-candidates-evening-wsc-parent-nominees-7-to-8pm-in-khcl-level-1/
END:VEVENT
END:VCALENDAR