BEGIN:VCALENDAR
VERSION:2.0
PRODID:-//Western Springs College - ECPv6.14.0//NONSGML v1.0//EN
CALSCALE:GREGORIAN
METHOD:PUBLISH
X-ORIGINAL-URL:https://westernsprings.school.nz
X-WR-CALDESC:Events for Western Springs College
REFRESH-INTERVAL;VALUE=DURATION:PT1H
X-Robots-Tag:noindex
X-PUBLISHED-TTL:PT1H
BEGIN:VTIMEZONE
TZID:Pacific/Auckland
BEGIN:STANDARD
TZOFFSETFROM:+1300
TZOFFSETTO:+1200
TZNAME:NZST
DTSTART:20230401T140000
END:STANDARD
BEGIN:DAYLIGHT
TZOFFSETFROM:+1200
TZOFFSETTO:+1300
TZNAME:NZDT
DTSTART:20230923T140000
END:DAYLIGHT
END:VTIMEZONE
BEGIN:VEVENT
DTSTART;VALUE=DATE:20231130
DTEND;VALUE=DATE:20231201
DTSTAMP:20260423T000818
CREATED:20230131T215112Z
LAST-MODIFIED:20231104T054814Z
UID:19770-1701302400-1701388799@westernsprings.school.nz
SUMMARY:NCEA examinations end
DESCRIPTION:
URL:https://westernsprings.school.nz/event/ncea-examinations-end-2/
END:VEVENT
END:VCALENDAR