BEGIN:VCALENDAR
VERSION:2.0
PRODID:-//Western Springs College - ECPv6.14.0//NONSGML v1.0//EN
CALSCALE:GREGORIAN
METHOD:PUBLISH
X-WR-CALNAME:Western Springs College
X-ORIGINAL-URL:https://westernsprings.school.nz
X-WR-CALDESC:Events for Western Springs College
REFRESH-INTERVAL;VALUE=DURATION:PT1H
X-Robots-Tag:noindex
X-PUBLISHED-TTL:PT1H
BEGIN:VTIMEZONE
TZID:Pacific/Auckland
BEGIN:STANDARD
TZOFFSETFROM:+1300
TZOFFSETTO:+1200
TZNAME:NZST
DTSTART:20240406T140000
END:STANDARD
BEGIN:DAYLIGHT
TZOFFSETFROM:+1200
TZOFFSETTO:+1300
TZNAME:NZDT
DTSTART:20240928T140000
END:DAYLIGHT
END:VTIMEZONE
BEGIN:VEVENT
DTSTART;VALUE=DATE:20240129
DTEND;VALUE=DATE:20240130
DTSTAMP:20260422T091841
CREATED:20240119T151840Z
LAST-MODIFIED:20240129T201815Z
UID:22725-1706486400-1706572799@westernsprings.school.nz
SUMMARY:1 to 6pm - Waiōrea only Kapa haka trials - Taapere
DESCRIPTION:
URL:https://westernsprings.school.nz/event/npow-kapa-haka-trials-taapere-2/
END:VEVENT
BEGIN:VEVENT
DTSTART;VALUE=DATE:20240129
DTEND;VALUE=DATE:20240130
DTSTAMP:20260422T091841
CREATED:20240119T151840Z
LAST-MODIFIED:20240129T201815Z
UID:22726-1706486400-1706572799@westernsprings.school.nz
SUMMARY:Auckland Anniversary observed - school closed.
DESCRIPTION:
URL:https://westernsprings.school.nz/event/auckland-anniversary-observed-school-closed/
END:VEVENT
END:VCALENDAR