BEGIN:VCALENDAR
VERSION:2.0
PRODID:-//Western Springs College - ECPv6.14.0//NONSGML v1.0//EN
CALSCALE:GREGORIAN
METHOD:PUBLISH
X-ORIGINAL-URL:https://westernsprings.school.nz
X-WR-CALDESC:Events for Western Springs College
REFRESH-INTERVAL;VALUE=DURATION:PT1H
X-Robots-Tag:noindex
X-PUBLISHED-TTL:PT1H
BEGIN:VTIMEZONE
TZID:Pacific/Auckland
BEGIN:STANDARD
TZOFFSETFROM:+1300
TZOFFSETTO:+1200
TZNAME:NZST
DTSTART:20180331T140000
END:STANDARD
BEGIN:DAYLIGHT
TZOFFSETFROM:+1200
TZOFFSETTO:+1300
TZNAME:NZDT
DTSTART:20180929T140000
END:DAYLIGHT
END:VTIMEZONE
BEGIN:VEVENT
DTSTART;VALUE=DATE:20180307
DTEND;VALUE=DATE:20180308
DTSTAMP:20260424T144403
CREATED:20171216T204831Z
LAST-MODIFIED:20180307T082025Z
UID:1050-1520380800-1520467199@westernsprings.school.nz
SUMMARY:New Families BBQ
DESCRIPTION:This event has a Google Hangouts video call.\nJoin: https://plus.google.com/hangouts/_/wsc.school.nz/new-families?hceid=d3NjLnNjaG9vbC5uel9ncm1xZWxsNm1yZXUxaDY2Y2J1Z2Y3ajBqNEBncm91cC5jYWxlbmRhci5nb29nbGUuY29t.58l6rejtmjvcoriknum20pblvg&hs=121
URL:https://westernsprings.school.nz/event/new-families-bbq/
END:VEVENT
BEGIN:VEVENT
DTSTART;VALUE=DATE:20180313
DTEND;VALUE=DATE:20180314
DTSTAMP:20260424T144403
CREATED:20171221T054920Z
LAST-MODIFIED:20180313T082046Z
UID:1203-1520899200-1520985599@westernsprings.school.nz
SUMMARY:WSC Half Day. (PD) Early Finish
DESCRIPTION:This event has a Google Hangouts video call.\nJoin: https://plus.google.com/hangouts/_/wsc.school.nz/pd-1-2-day?hceid=d3NjLnNjaG9vbC5uel9ncm1xZWxsNm1yZXUxaDY2Y2J1Z2Y3ajBqNEBncm91cC5jYWxlbmRhci5nb29nbGUuY29t.570mo6icceen0nvsrgvg8epddd&hs=121
URL:https://westernsprings.school.nz/event/wsc-half-day-pd-early-finish-4/
END:VEVENT
BEGIN:VEVENT
DTSTART;VALUE=DATE:20180323
DTEND;VALUE=DATE:20180324
DTSTAMP:20260424T144403
CREATED:20180308T082102Z
LAST-MODIFIED:20180323T082017Z
UID:2318-1521763200-1521849599@westernsprings.school.nz
SUMMARY:QUIZ NIGHT - World Challenge 6:30pm
DESCRIPTION:This event has a Google Hangouts video call.\nJoin: https://plus.google.com/hangouts/_/wsc.school.nz/stimsonk?hceid=d3NjLnNjaG9vbC5uel9ncm1xZWxsNm1yZXUxaDY2Y2J1Z2Y3ajBqNEBncm91cC5jYWxlbmRhci5nb29nbGUuY29t.17p6lgr6l2ae576n3lousokv03&hs=121
URL:https://westernsprings.school.nz/event/quiz-night-world-challenge-630pm/
END:VEVENT
BEGIN:VEVENT
DTSTART;VALUE=DATE:20180330
DTEND;VALUE=DATE:20180331
DTSTAMP:20260424T144403
CREATED:20171221T054941Z
LAST-MODIFIED:20180330T082019Z
UID:1204-1522368000-1522454399@westernsprings.school.nz
SUMMARY:Good Friday
DESCRIPTION:This event has a Google Hangouts video call.\nJoin: https://plus.google.com/hangouts/_/wsc.school.nz/good-friday?hceid=d3NjLnNjaG9vbC5uel9ncm1xZWxsNm1yZXUxaDY2Y2J1Z2Y3ajBqNEBncm91cC5jYWxlbmRhci5nb29nbGUuY29t.5v0g1pqa7fon5dhhgnlk28q16j&hs=121
URL:https://westernsprings.school.nz/event/good-friday/
END:VEVENT
END:VCALENDAR