BEGIN:VCALENDAR
VERSION:2.0
PRODID:-//Western Springs College - ECPv6.14.0//NONSGML v1.0//EN
CALSCALE:GREGORIAN
METHOD:PUBLISH
X-WR-CALNAME:Western Springs College
X-ORIGINAL-URL:https://westernsprings.school.nz
X-WR-CALDESC:Events for Western Springs College
REFRESH-INTERVAL;VALUE=DURATION:PT1H
X-Robots-Tag:noindex
X-PUBLISHED-TTL:PT1H
BEGIN:VTIMEZONE
TZID:Pacific/Auckland
BEGIN:STANDARD
TZOFFSETFROM:+1300
TZOFFSETTO:+1200
TZNAME:NZST
DTSTART:20180331T140000
END:STANDARD
BEGIN:DAYLIGHT
TZOFFSETFROM:+1200
TZOFFSETTO:+1300
TZNAME:NZDT
DTSTART:20180929T140000
END:DAYLIGHT
END:VTIMEZONE
BEGIN:VEVENT
DTSTART;VALUE=DATE:20180402
DTEND;VALUE=DATE:20180403
DTSTAMP:20260424T121823
CREATED:20171221T054941Z
LAST-MODIFIED:20180402T082133Z
UID:1205-1522627200-1522713599@westernsprings.school.nz
SUMMARY:Easter Monday
DESCRIPTION:This event has a Google Hangouts video call.\nJoin: https://plus.google.com/hangouts/_/wsc.school.nz/easter-monday?hceid=d3NjLnNjaG9vbC5uel9ncm1xZWxsNm1yZXUxaDY2Y2J1Z2Y3ajBqNEBncm91cC5jYWxlbmRhci5nb29nbGUuY29t.3lc6438i7admpkop3ak4gdcrcs&hs=121
URL:https://westernsprings.school.nz/event/easter-monday/
END:VEVENT
BEGIN:VEVENT
DTSTART;VALUE=DATE:20180403
DTEND;VALUE=DATE:20180404
DTSTAMP:20260424T121823
CREATED:20171221T054941Z
LAST-MODIFIED:20180403T082012Z
UID:1206-1522713600-1522799999@westernsprings.school.nz
SUMMARY:Easter Tuesday
DESCRIPTION:This event has a Google Hangouts video call.\nJoin: https://plus.google.com/hangouts/_/wsc.school.nz/easter-tuesday?hceid=d3NjLnNjaG9vbC5uel9ncm1xZWxsNm1yZXUxaDY2Y2J1Z2Y3ajBqNEBncm91cC5jYWxlbmRhci5nb29nbGUuY29t.0ipf3msfkhjrho06u76t6sgstl&hs=121
URL:https://westernsprings.school.nz/event/easter-tuesday/
END:VEVENT
BEGIN:VEVENT
DTSTART;VALUE=DATE:20180405
DTEND;VALUE=DATE:20180406
DTSTAMP:20260424T121823
CREATED:20171216T204832Z
LAST-MODIFIED:20180405T082014Z
UID:1051-1522886400-1522972799@westernsprings.school.nz
SUMMARY:Senior Parent Interviews
DESCRIPTION:This event has a Google Hangouts video call.\nJoin: https://plus.google.com/hangouts/_/wsc.school.nz/senior-parent?hceid=d3NjLnNjaG9vbC5uel9ncm1xZWxsNm1yZXUxaDY2Y2J1Z2Y3ajBqNEBncm91cC5jYWxlbmRhci5nb29nbGUuY29t.61pm3nsbtlg7r9tdm3hqap8ua3&hs=121
URL:https://westernsprings.school.nz/event/senior-parent-interviews/
END:VEVENT
BEGIN:VEVENT
DTSTART;VALUE=DATE:20180412
DTEND;VALUE=DATE:20180416
DTSTAMP:20260424T121823
CREATED:20180207T075011Z
LAST-MODIFIED:20180412T092011Z
UID:1600-1523491200-1523836799@westernsprings.school.nz
SUMMARY:Open Week Tours
DESCRIPTION:This event has a Google Hangouts video call.\nJoin: https://plus.google.com/hangouts/_/wsc.school.nz/open-week-tours?hceid=d3NjLnNjaG9vbC5uel9ncm1xZWxsNm1yZXUxaDY2Y2J1Z2Y3ajBqNEBncm91cC5jYWxlbmRhci5nb29nbGUuY29t.5bjohhkmc4t80d24vb4tsv3ujj&hs=121
URL:https://westernsprings.school.nz/event/open-week-tours/
END:VEVENT
BEGIN:VEVENT
DTSTART;VALUE=DATE:20180413
DTEND;VALUE=DATE:20180414
DTSTAMP:20260424T121823
CREATED:20171216T204832Z
LAST-MODIFIED:20180412T092011Z
UID:1052-1523577600-1523663999@westernsprings.school.nz
SUMMARY:Last day of term
DESCRIPTION:This event has a Google Hangouts video call.\nJoin: https://plus.google.com/hangouts/_/wsc.school.nz/last-day-of?hceid=d3NjLnNjaG9vbC5uel9ncm1xZWxsNm1yZXUxaDY2Y2J1Z2Y3ajBqNEBncm91cC5jYWxlbmRhci5nb29nbGUuY29t.5d9ahsgu7606vh9d98qj935s95&hs=121
URL:https://westernsprings.school.nz/event/last-day-of-term/
END:VEVENT
BEGIN:VEVENT
DTSTART;VALUE=DATE:20180429
DTEND;VALUE=DATE:20180430
DTSTAMP:20260424T121823
CREATED:20171221T055005Z
LAST-MODIFIED:20180502T055711Z
UID:1207-1524960000-1525046399@westernsprings.school.nz
SUMMARY:School Holidays
DESCRIPTION:This event has a Google Hangouts video call.\nJoin: https://plus.google.com/hangouts/_/wsc.school.nz/school-holidays?hceid=d3NjLnNjaG9vbC5uel9ncm1xZWxsNm1yZXUxaDY2Y2J1Z2Y3ajBqNEBncm91cC5jYWxlbmRhci5nb29nbGUuY29t.1ce5rii1ivcamjs1f5v7m7r2jc&hs=121
URL:https://westernsprings.school.nz/event/school-holidays-2/
END:VEVENT
END:VCALENDAR