BEGIN:VCALENDAR
VERSION:2.0
PRODID:-//Western Springs College - ECPv6.14.0//NONSGML v1.0//EN
CALSCALE:GREGORIAN
METHOD:PUBLISH
X-WR-CALNAME:Western Springs College
X-ORIGINAL-URL:https://westernsprings.school.nz
X-WR-CALDESC:Events for Western Springs College
REFRESH-INTERVAL;VALUE=DURATION:PT1H
X-Robots-Tag:noindex
X-PUBLISHED-TTL:PT1H
BEGIN:VTIMEZONE
TZID:Pacific/Auckland
BEGIN:STANDARD
TZOFFSETFROM:+1300
TZOFFSETTO:+1200
TZNAME:NZST
DTSTART:20180331T140000
END:STANDARD
BEGIN:DAYLIGHT
TZOFFSETFROM:+1200
TZOFFSETTO:+1300
TZNAME:NZDT
DTSTART:20180929T140000
END:DAYLIGHT
END:VTIMEZONE
BEGIN:VEVENT
DTSTART;VALUE=DATE:20180515
DTEND;VALUE=DATE:20180516
DTSTAMP:20260424T121808
CREATED:20171221T055005Z
LAST-MODIFIED:20180515T005036Z
UID:1208-1526342400-1526428799@westernsprings.school.nz
SUMMARY:WSC Half Day (PD). Early finish
DESCRIPTION:This event has a Google Hangouts video call.\nJoin: https://plus.google.com/hangouts/_/wsc.school.nz/wsc-half-day-pd?hceid=d3NjLnNjaG9vbC5uel9ncm1xZWxsNm1yZXUxaDY2Y2J1Z2Y3ajBqNEBncm91cC5jYWxlbmRhci5nb29nbGUuY29t.3lc66tihuk6usona6s8k8d0oiu&hs=121
URL:https://westernsprings.school.nz/event/wsc-half-day-pd-early-finish-5/
END:VEVENT
BEGIN:VEVENT
DTSTART;VALUE=DATE:20180524
DTEND;VALUE=DATE:20180525
DTSTAMP:20260424T121808
CREATED:20171221T055005Z
LAST-MODIFIED:20180524T010547Z
UID:1209-1527120000-1527206399@westernsprings.school.nz
SUMMARY:Junior Parent Interviews
DESCRIPTION:This event has a Google Hangouts video call.\nJoin: https://plus.google.com/hangouts/_/wsc.school.nz/junior-parent?hceid=d3NjLnNjaG9vbC5uel9ncm1xZWxsNm1yZXUxaDY2Y2J1Z2Y3ajBqNEBncm91cC5jYWxlbmRhci5nb29nbGUuY29t.2mlva66nc8h65r5sk7t2uicb01&hs=121
URL:https://westernsprings.school.nz/event/junior-parent-interviews/
END:VEVENT
END:VCALENDAR