BEGIN:VCALENDAR
VERSION:2.0
PRODID:-//Western Springs College - ECPv6.14.0//NONSGML v1.0//EN
CALSCALE:GREGORIAN
METHOD:PUBLISH
X-WR-CALNAME:Western Springs College
X-ORIGINAL-URL:https://westernsprings.school.nz
X-WR-CALDESC:Events for Western Springs College
REFRESH-INTERVAL;VALUE=DURATION:PT1H
X-Robots-Tag:noindex
X-PUBLISHED-TTL:PT1H
BEGIN:VTIMEZONE
TZID:Pacific/Auckland
BEGIN:STANDARD
TZOFFSETFROM:+1300
TZOFFSETTO:+1200
TZNAME:NZST
DTSTART:20180331T140000
END:STANDARD
BEGIN:DAYLIGHT
TZOFFSETFROM:+1200
TZOFFSETTO:+1300
TZNAME:NZDT
DTSTART:20180929T140000
END:DAYLIGHT
END:VTIMEZONE
BEGIN:VEVENT
DTSTART;VALUE=DATE:20180802
DTEND;VALUE=DATE:20180803
DTSTAMP:20260422T210900
CREATED:20171221T055006Z
LAST-MODIFIED:20180802T033553Z
UID:1214-1533168000-1533254399@westernsprings.school.nz
SUMMARY:Pofiafia
DESCRIPTION:This event has a Google Hangouts video call.\nJoin: https://plus.google.com/hangouts/_/wsc.school.nz/pofiafia?hceid=d3NjLnNjaG9vbC5uel9ncm1xZWxsNm1yZXUxaDY2Y2J1Z2Y3ajBqNEBncm91cC5jYWxlbmRhci5nb29nbGUuY29t.6ntkgl4a5bksbfimon6b4mpo25&hs=121
URL:https://westernsprings.school.nz/event/pofiafia/
END:VEVENT
BEGIN:VEVENT
DTSTART;VALUE=DATE:20180809
DTEND;VALUE=DATE:20180810
DTSTAMP:20260422T210900
CREATED:20171221T055010Z
LAST-MODIFIED:20180809T033513Z
UID:1219-1533772800-1533859199@westernsprings.school.nz
SUMMARY:Junior Parent Interviews
DESCRIPTION:This event has a Google Hangouts video call.\nJoin: https://plus.google.com/hangouts/_/wsc.school.nz/junior-parent?hceid=d3NjLnNjaG9vbC5uel9ncm1xZWxsNm1yZXUxaDY2Y2J1Z2Y3ajBqNEBncm91cC5jYWxlbmRhci5nb29nbGUuY29t.7evu96cgqvjqjeqpq52eocnpue&hs=121
URL:https://westernsprings.school.nz/event/junior-parent-interviews-2/
END:VEVENT
BEGIN:VEVENT
DTSTART;VALUE=DATE:20180814
DTEND;VALUE=DATE:20180815
DTSTAMP:20260422T210900
CREATED:20171221T055010Z
LAST-MODIFIED:20180814T033526Z
UID:1218-1534204800-1534291199@westernsprings.school.nz
SUMMARY:WSC Half day (PD). Early Finish
DESCRIPTION:This event has a Google Hangouts video call.\nJoin: https://plus.google.com/hangouts/_/wsc.school.nz/wsc-half-day-pd?hceid=d3NjLnNjaG9vbC5uel9ncm1xZWxsNm1yZXUxaDY2Y2J1Z2Y3ajBqNEBncm91cC5jYWxlbmRhci5nb29nbGUuY29t.0vaka86e5sjhm99qseml9sngdi&hs=121
URL:https://westernsprings.school.nz/event/wsc-half-day-pd-early-finish-6/
END:VEVENT
END:VCALENDAR