BEGIN:VCALENDAR
VERSION:2.0
PRODID:-//Western Springs College - ECPv6.14.0//NONSGML v1.0//EN
CALSCALE:GREGORIAN
METHOD:PUBLISH
X-WR-CALNAME:Western Springs College
X-ORIGINAL-URL:https://westernsprings.school.nz
X-WR-CALDESC:Events for Western Springs College
REFRESH-INTERVAL;VALUE=DURATION:PT1H
X-Robots-Tag:noindex
X-PUBLISHED-TTL:PT1H
BEGIN:VTIMEZONE
TZID:Pacific/Auckland
BEGIN:STANDARD
TZOFFSETFROM:+1300
TZOFFSETTO:+1200
TZNAME:NZST
DTSTART:20180331T140000
END:STANDARD
BEGIN:DAYLIGHT
TZOFFSETFROM:+1200
TZOFFSETTO:+1300
TZNAME:NZDT
DTSTART:20180929T140000
END:DAYLIGHT
END:VTIMEZONE
BEGIN:VEVENT
DTSTART;VALUE=DATE:20180904
DTEND;VALUE=DATE:20180905
DTSTAMP:20260420T192520
CREATED:20171221T055011Z
LAST-MODIFIED:20180904T040515Z
UID:1220-1536019200-1536105599@westernsprings.school.nz
SUMMARY:WSC Half Day (PD). Early Finish
DESCRIPTION:This event has a Google Hangouts video call.\nJoin: https://plus.google.com/hangouts/_/wsc.school.nz/wsc-half-day-pd?hceid=d3NjLnNjaG9vbC5uel9ncm1xZWxsNm1yZXUxaDY2Y2J1Z2Y3ajBqNEBncm91cC5jYWxlbmRhci5nb29nbGUuY29t.4j8cr0itklikeat5erljd14kuo&hs=121
URL:https://westernsprings.school.nz/event/wsc-half-day-pd-early-finish-7/
END:VEVENT
BEGIN:VEVENT
DTSTART;VALUE=DATE:20180910
DTEND;VALUE=DATE:20180918
DTSTAMP:20260420T192520
CREATED:20180124T003611Z
LAST-MODIFIED:20180917T042018Z
UID:1514-1536537600-1537228799@westernsprings.school.nz
SUMMARY:Senior Exams
DESCRIPTION:
URL:https://westernsprings.school.nz/event/senior-exams-2/
END:VEVENT
BEGIN:VEVENT
DTSTART;VALUE=DATE:20180928
DTEND;VALUE=DATE:20180929
DTSTAMP:20260420T192520
CREATED:20171221T055011Z
LAST-MODIFIED:20180928T045122Z
UID:1221-1538092800-1538179199@westernsprings.school.nz
SUMMARY:Last day of term
DESCRIPTION:This event has a Google Hangouts video call.\nJoin: https://plus.google.com/hangouts/_/wsc.school.nz/last-day-of?hceid=d3NjLnNjaG9vbC5uel9ncm1xZWxsNm1yZXUxaDY2Y2J1Z2Y3ajBqNEBncm91cC5jYWxlbmRhci5nb29nbGUuY29t.3f71p2gqgmq36a6h3qte1jmvhr&hs=121
URL:https://westernsprings.school.nz/event/last-day-of-term-3/
END:VEVENT
BEGIN:VEVENT
DTSTART;VALUE=DATE:20180929
DTEND;VALUE=DATE:20181015
DTSTAMP:20260420T192520
CREATED:20171221T055021Z
LAST-MODIFIED:20180929T045133Z
UID:1222-1538179200-1539561599@westernsprings.school.nz
SUMMARY:School holidays
DESCRIPTION:This event has a Google Hangouts video call.\nJoin: https://plus.google.com/hangouts/_/wsc.school.nz/school-holidays?hceid=d3NjLnNjaG9vbC5uel9ncm1xZWxsNm1yZXUxaDY2Y2J1Z2Y3ajBqNEBncm91cC5jYWxlbmRhci5nb29nbGUuY29t.4bsuhvmqkggf57t51davj8agb5&hs=121
URL:https://westernsprings.school.nz/event/school-holidays-4/
END:VEVENT
END:VCALENDAR