BEGIN:VCALENDAR
VERSION:2.0
PRODID:-//Western Springs College - ECPv6.14.0//NONSGML v1.0//EN
CALSCALE:GREGORIAN
METHOD:PUBLISH
X-WR-CALNAME:Western Springs College
X-ORIGINAL-URL:https://westernsprings.school.nz
X-WR-CALDESC:Events for Western Springs College
REFRESH-INTERVAL;VALUE=DURATION:PT1H
X-Robots-Tag:noindex
X-PUBLISHED-TTL:PT1H
BEGIN:VTIMEZONE
TZID:Pacific/Auckland
BEGIN:STANDARD
TZOFFSETFROM:+1300
TZOFFSETTO:+1200
TZNAME:NZST
DTSTART:20180331T140000
END:STANDARD
BEGIN:DAYLIGHT
TZOFFSETFROM:+1200
TZOFFSETTO:+1300
TZNAME:NZDT
DTSTART:20180929T140000
END:DAYLIGHT
END:VTIMEZONE
BEGIN:VEVENT
DTSTART;VALUE=DATE:20180929
DTEND;VALUE=DATE:20181015
DTSTAMP:20260420T173728
CREATED:20171221T055021Z
LAST-MODIFIED:20180929T045133Z
UID:1222-1538179200-1539561599@westernsprings.school.nz
SUMMARY:School holidays
DESCRIPTION:This event has a Google Hangouts video call.\nJoin: https://plus.google.com/hangouts/_/wsc.school.nz/school-holidays?hceid=d3NjLnNjaG9vbC5uel9ncm1xZWxsNm1yZXUxaDY2Y2J1Z2Y3ajBqNEBncm91cC5jYWxlbmRhci5nb29nbGUuY29t.4bsuhvmqkggf57t51davj8agb5&hs=121
URL:https://westernsprings.school.nz/event/school-holidays-4/
END:VEVENT
BEGIN:VEVENT
DTSTART;VALUE=DATE:20181022
DTEND;VALUE=DATE:20181023
DTSTAMP:20260420T173728
CREATED:20171221T055021Z
LAST-MODIFIED:20181005T045013Z
UID:1223-1540166400-1540252799@westernsprings.school.nz
SUMMARY:Labour Day
DESCRIPTION:This event has a Google Hangouts video call.\nJoin: https://plus.google.com/hangouts/_/wsc.school.nz/labour-day?hceid=d3NjLnNjaG9vbC5uel9ncm1xZWxsNm1yZXUxaDY2Y2J1Z2Y3ajBqNEBncm91cC5jYWxlbmRhci5nb29nbGUuY29t.74fi6tk0642e7g3orj81jod04t&hs=121
URL:https://westernsprings.school.nz/event/labour-day/
END:VEVENT
BEGIN:VEVENT
DTSTART;VALUE=DATE:20181023
DTEND;VALUE=DATE:20181024
DTSTAMP:20260420T173728
CREATED:20171221T055021Z
LAST-MODIFIED:20181005T045013Z
UID:1224-1540252800-1540339199@westernsprings.school.nz
SUMMARY:WSC Half Day (PD). Early Finish
DESCRIPTION:This event has a Google Hangouts video call.\nJoin: https://plus.google.com/hangouts/_/wsc.school.nz/wsc-half-day-pd?hceid=d3NjLnNjaG9vbC5uel9ncm1xZWxsNm1yZXUxaDY2Y2J1Z2Y3ajBqNEBncm91cC5jYWxlbmRhci5nb29nbGUuY29t.78btg8q8mksvbe40mhnmsf3v8d&hs=121
URL:https://westernsprings.school.nz/event/wsc-half-day-pd-early-finish-8/
END:VEVENT
BEGIN:VEVENT
DTSTART;VALUE=DATE:20181025
DTEND;VALUE=DATE:20181026
DTSTAMP:20260420T173728
CREATED:20180119T010950Z
LAST-MODIFIED:20181005T045013Z
UID:1401-1540425600-1540511999@westernsprings.school.nz
SUMMARY:Film Gala 8pm Bridgeway
DESCRIPTION:
URL:https://westernsprings.school.nz/event/film-gala-8pm-bridgeway/
END:VEVENT
BEGIN:VEVENT
DTSTART;VALUE=DATE:20181029
DTEND;VALUE=DATE:20181030
DTSTAMP:20260420T173728
CREATED:20171221T055022Z
LAST-MODIFIED:20181005T045014Z
UID:1225-1540771200-1540857599@westernsprings.school.nz
SUMMARY:Pasifika Prizegiving
DESCRIPTION:This event has a Google Hangouts video call.\nJoin: https://plus.google.com/hangouts/_/wsc.school.nz/pasifika?hceid=d3NjLnNjaG9vbC5uel9ncm1xZWxsNm1yZXUxaDY2Y2J1Z2Y3ajBqNEBncm91cC5jYWxlbmRhci5nb29nbGUuY29t.7609dm4ukrcopum6m8aoi6mq1q&hs=121
URL:https://westernsprings.school.nz/event/pasifika-prizegiving/
END:VEVENT
BEGIN:VEVENT
DTSTART;VALUE=DATE:20181031
DTEND;VALUE=DATE:20181101
DTSTAMP:20260420T173728
CREATED:20171221T055022Z
LAST-MODIFIED:20181005T045014Z
UID:1226-1540944000-1541030399@westernsprings.school.nz
SUMMARY:Y13 Leavers Celebration/Prizegiving
DESCRIPTION:This event has a Google Hangouts video call.\nJoin: https://plus.google.com/hangouts/_/wsc.school.nz/y13-leavers?hceid=d3NjLnNjaG9vbC5uel9ncm1xZWxsNm1yZXUxaDY2Y2J1Z2Y3ajBqNEBncm91cC5jYWxlbmRhci5nb29nbGUuY29t.7ka9g7r91oeetmbc5p9jkt6ddd&hs=121
URL:https://westernsprings.school.nz/event/y13-leavers-dinnerprizegiving/
END:VEVENT
END:VCALENDAR