BEGIN:VCALENDAR
VERSION:2.0
PRODID:-//Western Springs College - ECPv6.14.0//NONSGML v1.0//EN
CALSCALE:GREGORIAN
METHOD:PUBLISH
X-WR-CALNAME:Western Springs College
X-ORIGINAL-URL:https://westernsprings.school.nz
X-WR-CALDESC:Events for Western Springs College
REFRESH-INTERVAL;VALUE=DURATION:PT1H
X-Robots-Tag:noindex
X-PUBLISHED-TTL:PT1H
BEGIN:VTIMEZONE
TZID:Pacific/Auckland
BEGIN:STANDARD
TZOFFSETFROM:+1300
TZOFFSETTO:+1200
TZNAME:NZST
DTSTART:20180331T140000
END:STANDARD
BEGIN:DAYLIGHT
TZOFFSETFROM:+1200
TZOFFSETTO:+1300
TZNAME:NZDT
DTSTART:20180929T140000
END:DAYLIGHT
END:VTIMEZONE
BEGIN:VEVENT
DTSTART;VALUE=DATE:20181101
DTEND;VALUE=DATE:20181102
DTSTAMP:20260420T104428
CREATED:20171221T055031Z
LAST-MODIFIED:20181005T050456Z
UID:1227-1541030400-1541116799@westernsprings.school.nz
SUMMARY:Yr 12 Prizegiving
DESCRIPTION:This event has a Google Hangouts video call.\nJoin: https://plus.google.com/hangouts/_/wsc.school.nz/yr-12?hceid=d3NjLnNjaG9vbC5uel9ncm1xZWxsNm1yZXUxaDY2Y2J1Z2Y3ajBqNEBncm91cC5jYWxlbmRhci5nb29nbGUuY29t.7m561kvh15td06isj2erp2mu2i&hs=121
URL:https://westernsprings.school.nz/event/yr-12-prizegiving/
END:VEVENT
BEGIN:VEVENT
DTSTART;VALUE=DATE:20181102
DTEND;VALUE=DATE:20181103
DTSTAMP:20260420T104428
CREATED:20171221T055031Z
LAST-MODIFIED:20181005T050456Z
UID:1228-1541116800-1541203199@westernsprings.school.nz
SUMMARY:Yr 11 Prizegiving
DESCRIPTION:This event has a Google Hangouts video call.\nJoin: https://plus.google.com/hangouts/_/wsc.school.nz/yr-11?hceid=d3NjLnNjaG9vbC5uel9ncm1xZWxsNm1yZXUxaDY2Y2J1Z2Y3ajBqNEBncm91cC5jYWxlbmRhci5nb29nbGUuY29t.12k8dmuqqcu3d8eb52e5v063k3&hs=121
URL:https://westernsprings.school.nz/event/yr-11-prizegiving/
END:VEVENT
BEGIN:VEVENT
DTSTART;VALUE=DATE:20181109
DTEND;VALUE=DATE:20181110
DTSTAMP:20260420T104428
CREATED:20180919T045141Z
LAST-MODIFIED:20181109T080523Z
UID:6902-1541721600-1541807999@westernsprings.school.nz
SUMMARY:Teacher Only Day
DESCRIPTION:This event has a Google Hangouts video call.\nJoin: https://hangouts.google.com/hangouts/_/wsc.school.nz/stimsonk?hceid=d3NjLnNjaG9vbC5uel9ncm1xZWxsNm1yZXUxaDY2Y2J1Z2Y3ajBqNEBncm91cC5jYWxlbmRhci5nb29nbGUuY29t.45bpl5gpjf0na95vovt6ipoo08&hs=121
URL:https://westernsprings.school.nz/event/teacher-only-day-2/
END:VEVENT
BEGIN:VEVENT
DTSTART;VALUE=DATE:20181113
DTEND;VALUE=DATE:20181114
DTSTAMP:20260420T104428
CREATED:20171221T055031Z
LAST-MODIFIED:20181005T050456Z
UID:1229-1542067200-1542153599@westernsprings.school.nz
SUMMARY:WSC Half Day (PD). Early Finish
DESCRIPTION:This event has a Google Hangouts video call.\nJoin: https://plus.google.com/hangouts/_/wsc.school.nz/wsc-half-day-pd?hceid=d3NjLnNjaG9vbC5uel91N3Z1bm5kaTY5cjhlNnBycmNvaGxxOGJiY0Bncm91cC5jYWxlbmRhci5nb29nbGUuY29t.5i7j9bqcnv3mvsdkd0ce2s5ih1&hs=121
URL:https://westernsprings.school.nz/event/wsc-half-day-pd-early-finish-9/
END:VEVENT
BEGIN:VEVENT
DTSTART;TZID=Pacific/Auckland:20181116T133000
DTEND;TZID=Pacific/Auckland:20181116T153000
DTSTAMP:20260420T104428
CREATED:20181105T172315Z
LAST-MODIFIED:20181116T082016Z
UID:8051-1542375000-1542382200@westernsprings.school.nz
SUMMARY:Inner City Principals at NZYS
DESCRIPTION:
URL:https://westernsprings.school.nz/event/inner-city-principals-at-nzys/
END:VEVENT
BEGIN:VEVENT
DTSTART;TZID=Pacific/Auckland:20181116T153000
DTEND;TZID=Pacific/Auckland:20181116T163000
DTSTAMP:20260420T104428
CREATED:20181105T172315Z
LAST-MODIFIED:20181116T082016Z
UID:8053-1542382200-1542385800@westernsprings.school.nz
SUMMARY:Junior Arts Festival
DESCRIPTION:This event has a Google Hangouts video call.\nJoin: https://hangouts.google.com/hangouts/_/wsc.school.nz/okeyd?hceid=d3NjLnNjaG9vbC5uel9ncm1xZWxsNm1yZXUxaDY2Y2J1Z2Y3ajBqNEBncm91cC5jYWxlbmRhci5nb29nbGUuY29t.3rbnoku9ji0i8ftu09s9rf3fuk&hs=121
URL:https://westernsprings.school.nz/event/junior-arts-festival/
LOCATION:TAPAC
END:VEVENT
BEGIN:VEVENT
DTSTART;TZID=Pacific/Auckland:20181116T173000
DTEND;TZID=Pacific/Auckland:20181116T183000
DTSTAMP:20260420T104428
CREATED:20181105T172315Z
LAST-MODIFIED:20181116T082016Z
UID:8055-1542389400-1542393000@westernsprings.school.nz
SUMMARY:Junior Arts Festival
DESCRIPTION:This event has a Google Hangouts video call.\nJoin: https://hangouts.google.com/hangouts/_/wsc.school.nz/okeyd?hceid=b2tleWRAd3NjLnNjaG9vbC5ueg.5dvrp0fm5udrkug4gp3o1u087q&hs=121
URL:https://westernsprings.school.nz/event/junior-arts-festival-2/
LOCATION:TAPAC\, The Auckland Performing Arts Centre\, 100 Motions Rd\, Western Springs\, Auckland 1022\, New Zealand
END:VEVENT
END:VCALENDAR