BEGIN:VCALENDAR
VERSION:2.0
PRODID:-//Western Springs College - ECPv6.14.0//NONSGML v1.0//EN
CALSCALE:GREGORIAN
METHOD:PUBLISH
X-ORIGINAL-URL:https://westernsprings.school.nz
X-WR-CALDESC:Events for Western Springs College
REFRESH-INTERVAL;VALUE=DURATION:PT1H
X-Robots-Tag:noindex
X-PUBLISHED-TTL:PT1H
BEGIN:VTIMEZONE
TZID:Pacific/Auckland
BEGIN:STANDARD
TZOFFSETFROM:+1300
TZOFFSETTO:+1200
TZNAME:NZST
DTSTART:20200404T140000
END:STANDARD
BEGIN:DAYLIGHT
TZOFFSETFROM:+1200
TZOFFSETTO:+1300
TZNAME:NZDT
DTSTART:20200926T140000
END:DAYLIGHT
END:VTIMEZONE
BEGIN:VEVENT
DTSTART;VALUE=DATE:20200703
DTEND;VALUE=DATE:20200704
DTSTAMP:20260420T070738
CREATED:20191210T185140Z
LAST-MODIFIED:20200703T052025Z
UID:12681-1593734400-1593820799@westernsprings.school.nz
SUMMARY:LAST DAY of Term 2
DESCRIPTION:
URL:https://westernsprings.school.nz/event/last-day-of-term-2-2/
END:VEVENT
BEGIN:VEVENT
DTSTART;VALUE=DATE:20200720
DTEND;VALUE=DATE:20200721
DTSTAMP:20260420T070738
CREATED:20191210T185140Z
LAST-MODIFIED:20200720T112231Z
UID:12682-1595203200-1595289599@westernsprings.school.nz
SUMMARY:Term 3 starts
DESCRIPTION:
URL:https://westernsprings.school.nz/event/term-3-starts/
END:VEVENT
BEGIN:VEVENT
DTSTART;VALUE=DATE:20200725
DTEND;VALUE=DATE:20200726
DTSTAMP:20260420T070738
CREATED:20200615T043514Z
LAST-MODIFIED:20200725T115035Z
UID:14413-1595635200-1595721599@westernsprings.school.nz
SUMMARY:SCHOOL BALL
DESCRIPTION:Eden Park – South lounge \n\nFree parking is available in P5 off Reimers Ave (map attached)\nSecurity will assist with directing you to the nearest available car parking spaces\nEnter Eden Park via Gate G\nDoors open from 7pm. Last entry 8pm\nDoors will be open again from 11.30pm. Event closed by 11.55pm
URL:https://westernsprings.school.nz/event/school-ball-3/
END:VEVENT
BEGIN:VEVENT
DTSTART;VALUE=DATE:20200727
DTEND;VALUE=DATE:20200801
DTSTAMP:20260420T070738
CREATED:20200611T040619Z
LAST-MODIFIED:20200731T122518Z
UID:14358-1595808000-1596239999@westernsprings.school.nz
SUMMARY:Springs Open Week tours 9.15 to 10.30am
DESCRIPTION:
URL:https://westernsprings.school.nz/event/springs-open-week-tours-9-15-to-10-30am/
END:VEVENT
BEGIN:VEVENT
DTSTART;VALUE=DATE:20200730
DTEND;VALUE=DATE:20200731
DTSTAMP:20260420T070738
CREATED:20191210T185141Z
LAST-MODIFIED:20200521T043518Z
UID:12683-1596067200-1596153599@westernsprings.school.nz
SUMMARY:PO FIA FIA
DESCRIPTION:
URL:https://westernsprings.school.nz/event/po-fia-fia/
END:VEVENT
END:VCALENDAR