BEGIN:VCALENDAR
VERSION:2.0
PRODID:-//Western Springs College - ECPv6.14.0//NONSGML v1.0//EN
CALSCALE:GREGORIAN
METHOD:PUBLISH
X-ORIGINAL-URL:https://westernsprings.school.nz
X-WR-CALDESC:Events for Western Springs College
REFRESH-INTERVAL;VALUE=DURATION:PT1H
X-Robots-Tag:noindex
X-PUBLISHED-TTL:PT1H
BEGIN:VTIMEZONE
TZID:Pacific/Auckland
BEGIN:STANDARD
TZOFFSETFROM:+1300
TZOFFSETTO:+1200
TZNAME:NZST
DTSTART:20200404T140000
END:STANDARD
BEGIN:DAYLIGHT
TZOFFSETFROM:+1200
TZOFFSETTO:+1300
TZNAME:NZDT
DTSTART:20200926T140000
END:DAYLIGHT
END:VTIMEZONE
BEGIN:VEVENT
DTSTART;VALUE=DATE:20201204
DTEND;VALUE=DATE:20201205
DTSTAMP:20260423T103631
CREATED:20200806T125616Z
LAST-MODIFIED:20201204T121440Z
UID:14788-1607040000-1607126399@westernsprings.school.nz
SUMMARY:Waiōrea prizegiving 6pm onward
DESCRIPTION:
URL:https://westernsprings.school.nz/event/waiorea-prizegiving-6pm-onward/
END:VEVENT
BEGIN:VEVENT
DTSTART;VALUE=DATE:20201207
DTEND;VALUE=DATE:20201208
DTSTAMP:20260423T103631
CREATED:20191210T185142Z
LAST-MODIFIED:20201207T121426Z
UID:12704-1607299200-1607385599@westernsprings.school.nz
SUMMARY:Beach day
DESCRIPTION:
URL:https://westernsprings.school.nz/event/beach-day-5/
END:VEVENT
BEGIN:VEVENT
DTSTART;VALUE=DATE:20201208
DTEND;VALUE=DATE:20201209
DTSTAMP:20260423T103631
CREATED:20191210T185142Z
LAST-MODIFIED:20201208T122903Z
UID:12705-1607385600-1607471999@westernsprings.school.nz
SUMMARY:Junior prizegiving 10am
DESCRIPTION:
URL:https://westernsprings.school.nz/event/junior-prizegiving-10am/
END:VEVENT
BEGIN:VEVENT
DTSTART;VALUE=DATE:20201208
DTEND;VALUE=DATE:20201209
DTSTAMP:20260423T103631
CREATED:20191210T185142Z
LAST-MODIFIED:20201208T122903Z
UID:12706-1607385600-1607471999@westernsprings.school.nz
SUMMARY:Last day of term 4
DESCRIPTION:
URL:https://westernsprings.school.nz/event/last-day-of-term-4-2/
END:VEVENT
BEGIN:VEVENT
DTSTART;VALUE=DATE:20201209
DTEND;VALUE=DATE:20201210
DTSTAMP:20260423T103631
CREATED:20191210T185142Z
LAST-MODIFIED:20201209T122859Z
UID:12702-1607472000-1607558399@westernsprings.school.nz
SUMMARY:NCEA exam ends
DESCRIPTION:
URL:https://westernsprings.school.nz/event/ncea-exam-ends/
END:VEVENT
END:VCALENDAR