BEGIN:VCALENDAR
VERSION:2.0
PRODID:-//Western Springs College - ECPv6.14.0//NONSGML v1.0//EN
CALSCALE:GREGORIAN
METHOD:PUBLISH
X-ORIGINAL-URL:https://westernsprings.school.nz
X-WR-CALDESC:Events for Western Springs College
REFRESH-INTERVAL;VALUE=DURATION:PT1H
X-Robots-Tag:noindex
X-PUBLISHED-TTL:PT1H
BEGIN:VTIMEZONE
TZID:Pacific/Auckland
BEGIN:STANDARD
TZOFFSETFROM:+1300
TZOFFSETTO:+1200
TZNAME:NZST
DTSTART:20210403T140000
END:STANDARD
BEGIN:DAYLIGHT
TZOFFSETFROM:+1200
TZOFFSETTO:+1300
TZNAME:NZDT
DTSTART:20210925T140000
END:DAYLIGHT
END:VTIMEZONE
BEGIN:VEVENT
DTSTART;VALUE=DATE:20210301
DTEND;VALUE=DATE:20210306
DTSTAMP:20260426T162817
CREATED:20210301T031554Z
LAST-MODIFIED:20210305T031425Z
UID:15910-1614556800-1614988799@westernsprings.school.nz
SUMMARY:Alert L3: School closed. Online learning resumes.
DESCRIPTION:
URL:https://westernsprings.school.nz/event/alert-l3-school-closed-online-learning-resumes/
END:VEVENT
BEGIN:VEVENT
DTSTART;VALUE=DATE:20210302
DTEND;VALUE=DATE:20210303
DTSTAMP:20260426T162817
CREATED:20201209T122900Z
LAST-MODIFIED:20210302T031331Z
UID:15659-1614643200-1614729599@westernsprings.school.nz
SUMMARY:Postponed- Catch up ID Photos
DESCRIPTION:
URL:https://westernsprings.school.nz/event/catch-up-id-photos/
LOCATION:(Hall)-Hall
END:VEVENT
BEGIN:VEVENT
DTSTART;TZID=Pacific/Auckland:20210315T083000
DTEND;TZID=Pacific/Auckland:20210315T133000
DTSTAMP:20260426T162817
CREATED:20210301T031554Z
LAST-MODIFIED:20210314T032838Z
UID:15911-1615797000-1615815000@westernsprings.school.nz
SUMMARY:Catch up ID Photos in Te whakamanu (old gym)
DESCRIPTION:
URL:https://westernsprings.school.nz/event/catch-up-id-photos-in-te-whakamanu-old-gym/
END:VEVENT
BEGIN:VEVENT
DTSTART;VALUE=DATE:20210329
DTEND;VALUE=DATE:20210402
DTSTAMP:20260426T162817
CREATED:20210310T033021Z
LAST-MODIFIED:20210401T040352Z
UID:15990-1616976000-1617321599@westernsprings.school.nz
SUMMARY:Open School tours 9.15 to 10.30am. Must register online.
DESCRIPTION:
URL:https://westernsprings.school.nz/event/open-school-tours-9-15-to-10-30am-must-register-online/
END:VEVENT
END:VCALENDAR