BEGIN:VCALENDAR
VERSION:2.0
PRODID:-//Western Springs College - ECPv6.14.0//NONSGML v1.0//EN
CALSCALE:GREGORIAN
METHOD:PUBLISH
X-WR-CALNAME:Western Springs College
X-ORIGINAL-URL:https://westernsprings.school.nz
X-WR-CALDESC:Events for Western Springs College
REFRESH-INTERVAL;VALUE=DURATION:PT1H
X-Robots-Tag:noindex
X-PUBLISHED-TTL:PT1H
BEGIN:VTIMEZONE
TZID:Pacific/Auckland
BEGIN:STANDARD
TZOFFSETFROM:+1300
TZOFFSETTO:+1200
TZNAME:NZST
DTSTART:20230401T140000
END:STANDARD
BEGIN:DAYLIGHT
TZOFFSETFROM:+1200
TZOFFSETTO:+1300
TZNAME:NZDT
DTSTART:20230923T140000
END:DAYLIGHT
END:VTIMEZONE
BEGIN:VEVENT
DTSTART;VALUE=DATE:20230602
DTEND;VALUE=DATE:20230603
DTSTAMP:20260424T121759
CREATED:20230131T215109Z
LAST-MODIFIED:20230506T023315Z
UID:19753-1685664000-1685750399@westernsprings.school.nz
SUMMARY:ToD - Kahui Ako
DESCRIPTION:
URL:https://westernsprings.school.nz/event/tod-kahui-ako-3/
END:VEVENT
BEGIN:VEVENT
DTSTART;VALUE=DATE:20230605
DTEND;VALUE=DATE:20230606
DTSTAMP:20260424T121759
CREATED:20230131T215109Z
LAST-MODIFIED:20230506T023315Z
UID:19754-1685923200-1686009599@westernsprings.school.nz
SUMMARY:KING's Birthday Monday observed
DESCRIPTION:
URL:https://westernsprings.school.nz/event/kings-birthday-monday-observed/
END:VEVENT
BEGIN:VEVENT
DTSTART;VALUE=DATE:20230626
DTEND;VALUE=DATE:20230627
DTSTAMP:20260424T121759
CREATED:20230606T210253Z
LAST-MODIFIED:20230626T223345Z
UID:20666-1687737600-1687823999@westernsprings.school.nz
SUMMARY:Board hui 5 pm
DESCRIPTION:
URL:https://westernsprings.school.nz/event/board-hui-5-pm/
END:VEVENT
BEGIN:VEVENT
DTSTART;VALUE=DATE:20230630
DTEND;VALUE=DATE:20230701
DTSTAMP:20260424T121759
CREATED:20230131T215109Z
LAST-MODIFIED:20230630T223325Z
UID:19755-1688083200-1688169599@westernsprings.school.nz
SUMMARY:Term 2 ends
DESCRIPTION:
URL:https://westernsprings.school.nz/event/term-2-ends-3/
END:VEVENT
END:VCALENDAR