BEGIN:VCALENDAR
VERSION:2.0
PRODID:-//Western Springs College - ECPv6.14.0//NONSGML v1.0//EN
CALSCALE:GREGORIAN
METHOD:PUBLISH
X-WR-CALNAME:Western Springs College
X-ORIGINAL-URL:https://westernsprings.school.nz
X-WR-CALDESC:Events for Western Springs College
REFRESH-INTERVAL;VALUE=DURATION:PT1H
X-Robots-Tag:noindex
X-PUBLISHED-TTL:PT1H
BEGIN:VTIMEZONE
TZID:Pacific/Auckland
BEGIN:STANDARD
TZOFFSETFROM:+1300
TZOFFSETTO:+1200
TZNAME:NZST
DTSTART:20230401T140000
END:STANDARD
BEGIN:DAYLIGHT
TZOFFSETFROM:+1200
TZOFFSETTO:+1300
TZNAME:NZDT
DTSTART:20230923T140000
END:DAYLIGHT
END:VTIMEZONE
BEGIN:VEVENT
DTSTART;VALUE=DATE:20230807
DTEND;VALUE=DATE:20230808
DTSTAMP:20260423T052929
CREATED:20230131T215109Z
LAST-MODIFIED:20230807T020311Z
UID:19757-1691366400-1691452799@westernsprings.school.nz
SUMMARY:SPORTS Team photos
DESCRIPTION:
URL:https://westernsprings.school.nz/event/sports-team-photos/
END:VEVENT
BEGIN:VEVENT
DTSTART;VALUE=DATE:20230808
DTEND;VALUE=DATE:20230809
DTSTAMP:20260423T052929
CREATED:20230131T215110Z
LAST-MODIFIED:20230808T020332Z
UID:19758-1691452800-1691539199@westernsprings.school.nz
SUMMARY:Clubs\, Groups and teams photos
DESCRIPTION:
URL:https://westernsprings.school.nz/event/clubs-groups-and-teams-photos/
END:VEVENT
BEGIN:VEVENT
DTSTART;VALUE=DATE:20230815
DTEND;VALUE=DATE:20230816
DTSTAMP:20260423T052929
CREATED:20230803T013342Z
LAST-MODIFIED:20230815T204930Z
UID:21261-1692057600-1692143999@westernsprings.school.nz
SUMMARY:WSC 2024 Enrolment Interviews 3.30 to 5.30pm
DESCRIPTION:
URL:https://westernsprings.school.nz/event/wsc-2024-enrolment-interviews-3-30-to-5-30pm-2/
END:VEVENT
BEGIN:VEVENT
DTSTART;VALUE=DATE:20230815
DTEND;VALUE=DATE:20230816
DTSTAMP:20260423T052929
CREATED:20230815T204930Z
LAST-MODIFIED:20230815T204930Z
UID:21457-1692057600-1692143999@westernsprings.school.nz
SUMMARY:Online learning today. Campus closed due to Health and Safety.
DESCRIPTION:
URL:https://westernsprings.school.nz/event/online-learning-today-campus-closed-due-to-health-and-safety/
END:VEVENT
BEGIN:VEVENT
DTSTART;VALUE=DATE:20230816
DTEND;VALUE=DATE:20230817
DTSTAMP:20260423T052929
CREATED:20230803T013342Z
LAST-MODIFIED:20230816T204842Z
UID:21260-1692144000-1692230399@westernsprings.school.nz
SUMMARY:WSC 2024 Enrolment Interviews 3.30 to 5.30pm
DESCRIPTION:
URL:https://westernsprings.school.nz/event/wsc-2024-enrolment-interviews-3-30-to-5-30pm/
END:VEVENT
BEGIN:VEVENT
DTSTART;VALUE=DATE:20230817
DTEND;VALUE=DATE:20230818
DTSTAMP:20260423T052929
CREATED:20230815T204930Z
LAST-MODIFIED:20230817T204832Z
UID:21458-1692230400-1692316799@westernsprings.school.nz
SUMMARY:WSC Pathways and subject choices evening 4.30 to 7.00pm in KHCL
DESCRIPTION:
URL:https://westernsprings.school.nz/event/wsc-pathways-and-subject-choices-evening-4-30-to-7-00pm-in-khcl/
END:VEVENT
BEGIN:VEVENT
DTSTART;TZID=Pacific/Auckland:20230817T163000
DTEND;TZID=Pacific/Auckland:20230817T190000
DTSTAMP:20260423T052929
CREATED:20230803T013342Z
LAST-MODIFIED:20230816T204842Z
UID:21262-1692289800-1692298800@westernsprings.school.nz
SUMMARY:Western Springs College Ngā Puna o Waiōrea Pathways Evening
DESCRIPTION:
URL:https://westernsprings.school.nz/event/western-springs-college-nga-puna-o-waiorea-pathways-evening/
END:VEVENT
BEGIN:VEVENT
DTSTART;VALUE=DATE:20230825
DTEND;VALUE=DATE:20230826
DTSTAMP:20260423T052929
CREATED:20230803T013342Z
LAST-MODIFIED:20230824T213316Z
UID:21263-1692921600-1693007999@westernsprings.school.nz
SUMMARY:Po fiafia
DESCRIPTION:
URL:https://westernsprings.school.nz/event/po-fiafia/
END:VEVENT
BEGIN:VEVENT
DTSTART;VALUE=DATE:20230828
DTEND;VALUE=DATE:20230902
DTSTAMP:20260423T052929
CREATED:20230803T013342Z
LAST-MODIFIED:20230901T220413Z
UID:21264-1693180800-1693612799@westernsprings.school.nz
SUMMARY:Winter tournament week
DESCRIPTION:
URL:https://westernsprings.school.nz/event/winter-tournament-week-2/
END:VEVENT
END:VCALENDAR