BEGIN:VCALENDAR
VERSION:2.0
PRODID:-//Western Springs College - ECPv6.14.0//NONSGML v1.0//EN
CALSCALE:GREGORIAN
METHOD:PUBLISH
X-ORIGINAL-URL:https://westernsprings.school.nz
X-WR-CALDESC:Events for Western Springs College
REFRESH-INTERVAL;VALUE=DURATION:PT1H
X-Robots-Tag:noindex
X-PUBLISHED-TTL:PT1H
BEGIN:VTIMEZONE
TZID:Pacific/Auckland
BEGIN:STANDARD
TZOFFSETFROM:+1300
TZOFFSETTO:+1200
TZNAME:NZST
DTSTART:20230401T140000
END:STANDARD
BEGIN:DAYLIGHT
TZOFFSETFROM:+1200
TZOFFSETTO:+1300
TZNAME:NZDT
DTSTART:20230923T140000
END:DAYLIGHT
END:VTIMEZONE
BEGIN:VEVENT
DTSTART;VALUE=DATE:20231102
DTEND;VALUE=DATE:20231103
DTSTAMP:20260422T220628
CREATED:20230912T230325Z
LAST-MODIFIED:20231101T051959Z
UID:21794-1698883200-1698969599@westernsprings.school.nz
SUMMARY:Senior Visual Arts\, Technology and Media exhibition 4 to 6pm L1 KHCL.
DESCRIPTION:
URL:https://westernsprings.school.nz/event/senior-visual-arts-technology-and-media-exhibition-4-to-6pm-l1-khcl/
END:VEVENT
BEGIN:VEVENT
DTSTART;VALUE=DATE:20231106
DTEND;VALUE=DATE:20231107
DTSTAMP:20260422T220628
CREATED:20230131T215111Z
LAST-MODIFIED:20231104T054814Z
UID:19769-1699228800-1699315199@westernsprings.school.nz
SUMMARY:NCEA examinations begin
DESCRIPTION:
URL:https://westernsprings.school.nz/event/ncea-examinations-begin-2/
END:VEVENT
BEGIN:VEVENT
DTSTART;VALUE=DATE:20231116
DTEND;VALUE=DATE:20231117
DTSTAMP:20260422T220628
CREATED:20230817T204832Z
LAST-MODIFIED:20231104T054814Z
UID:21497-1700092800-1700179199@westernsprings.school.nz
SUMMARY:Curriculum refresh MoE mandated ToD
DESCRIPTION:
URL:https://westernsprings.school.nz/event/curriculum-refresh-moe-mandated-tod/
END:VEVENT
BEGIN:VEVENT
DTSTART;VALUE=DATE:20231120
DTEND;VALUE=DATE:20231123
DTSTAMP:20260422T220628
CREATED:20230906T223322Z
LAST-MODIFIED:20231104T054814Z
UID:21778-1700438400-1700697599@westernsprings.school.nz
SUMMARY:(Y9 Atea and Whenua camp)
DESCRIPTION:
URL:https://westernsprings.school.nz/event/y9-atea-and-whenua-camp/
END:VEVENT
BEGIN:VEVENT
DTSTART;TZID=Pacific/Auckland:20231120T080000
DTEND;TZID=Pacific/Auckland:20231121T170000
DTSTAMP:20260422T220628
CREATED:20231019T195637Z
LAST-MODIFIED:20231019T195637Z
UID:22111-1700467200-1700586000@westernsprings.school.nz
SUMMARY:Y10 Waiōrea camp
DESCRIPTION:
URL:https://westernsprings.school.nz/event/y10-waiorea-camp/
END:VEVENT
BEGIN:VEVENT
DTSTART;VALUE=DATE:20231122
DTEND;VALUE=DATE:20231125
DTSTAMP:20260422T220628
CREATED:20230906T223322Z
LAST-MODIFIED:20231104T054814Z
UID:21779-1700611200-1700870399@westernsprings.school.nz
SUMMARY:(Y9 Kapura and Moana camp)
DESCRIPTION:
URL:https://westernsprings.school.nz/event/y9-kapura-and-moana-camp/
END:VEVENT
BEGIN:VEVENT
DTSTART;TZID=Pacific/Auckland:20231122T080000
DTEND;TZID=Pacific/Auckland:20231123T170000
DTSTAMP:20260422T220628
CREATED:20231019T195704Z
LAST-MODIFIED:20231019T195704Z
UID:22113-1700640000-1700758800@westernsprings.school.nz
SUMMARY:Y9 Waiōrea camp
DESCRIPTION:
URL:https://westernsprings.school.nz/event/y9-waiorea-camp/
END:VEVENT
BEGIN:VEVENT
DTSTART;VALUE=DATE:20231130
DTEND;VALUE=DATE:20231201
DTSTAMP:20260422T220628
CREATED:20230131T215112Z
LAST-MODIFIED:20231104T054814Z
UID:19770-1701302400-1701388799@westernsprings.school.nz
SUMMARY:NCEA examinations end
DESCRIPTION:
URL:https://westernsprings.school.nz/event/ncea-examinations-end-2/
END:VEVENT
END:VCALENDAR