BEGIN:VCALENDAR
VERSION:2.0
PRODID:-//Western Springs College - ECPv6.14.0//NONSGML v1.0//EN
CALSCALE:GREGORIAN
METHOD:PUBLISH
X-WR-CALNAME:Western Springs College
X-ORIGINAL-URL:https://westernsprings.school.nz
X-WR-CALDESC:Events for Western Springs College
REFRESH-INTERVAL;VALUE=DURATION:PT1H
X-Robots-Tag:noindex
X-PUBLISHED-TTL:PT1H
BEGIN:VTIMEZONE
TZID:Pacific/Auckland
BEGIN:STANDARD
TZOFFSETFROM:+1300
TZOFFSETTO:+1200
TZNAME:NZST
DTSTART:20230401T140000
END:STANDARD
BEGIN:DAYLIGHT
TZOFFSETFROM:+1200
TZOFFSETTO:+1300
TZNAME:NZDT
DTSTART:20230923T140000
END:DAYLIGHT
END:VTIMEZONE
BEGIN:VEVENT
DTSTART;VALUE=DATE:20231204
DTEND;VALUE=DATE:20231205
DTSTAMP:20260422T183827
CREATED:20230306T061842Z
LAST-MODIFIED:20231104T054814Z
UID:20058-1701648000-1701734399@westernsprings.school.nz
SUMMARY:Board hui 5 pm
DESCRIPTION:
URL:https://westernsprings.school.nz/event/board-hui-6pm-8/
END:VEVENT
BEGIN:VEVENT
DTSTART;VALUE=DATE:20231206
DTEND;VALUE=DATE:20231207
DTSTAMP:20260422T183827
CREATED:20230919T233354Z
LAST-MODIFIED:20231104T054814Z
UID:21809-1701820800-1701907199@westernsprings.school.nz
SUMMARY:Sustainable Craft Market 9.30 to 12.30pm in KHCL Level 2
DESCRIPTION:
URL:https://westernsprings.school.nz/event/sustainable-craft-market-9-30-to-12-30pm-in-khcl-level-2/
END:VEVENT
BEGIN:VEVENT
DTSTART;VALUE=DATE:20231211
DTEND;VALUE=DATE:20231212
DTSTAMP:20260422T183827
CREATED:20230930T003639Z
LAST-MODIFIED:20231104T054814Z
UID:21981-1702252800-1702339199@westernsprings.school.nz
SUMMARY:2024 Y9 students orientation evening in the gym 5.30pm
DESCRIPTION:
URL:https://westernsprings.school.nz/event/2024-y9-students-orientation-evening-in-the-gym-5-30pm/
END:VEVENT
BEGIN:VEVENT
DTSTART;VALUE=DATE:20231213
DTEND;VALUE=DATE:20231214
DTSTAMP:20260422T183827
CREATED:20230131T215112Z
LAST-MODIFIED:20231104T054814Z
UID:19771-1702425600-1702511999@westernsprings.school.nz
SUMMARY:Junior Prizegiving
DESCRIPTION:
URL:https://westernsprings.school.nz/event/junior-prizegiving-4/
END:VEVENT
END:VCALENDAR